BEGIN:VCALENDAR
VERSION:2.0
PRODID:-//Festiven - ECPv6.2.4//NONSGML v1.0//EN
CALSCALE:GREGORIAN
METHOD:PUBLISH
X-WR-CALNAME:Festiven
X-ORIGINAL-URL:https://demo2.tokomoo.com/festiven
X-WR-CALDESC:Events for Festiven
REFRESH-INTERVAL;VALUE=DURATION:PT1H
X-Robots-Tag:noindex
X-PUBLISHED-TTL:PT1H
BEGIN:VTIMEZONE
TZID:UTC
BEGIN:STANDARD
TZOFFSETFROM:+0000
TZOFFSETTO:+0000
TZNAME:UTC
DTSTART:20160101T000000
END:STANDARD
END:VTIMEZONE
BEGIN:VEVENT
DTSTART;TZID=UTC:20161101T080000
DTEND;TZID=UTC:20161102T170000
DTSTAMP:20260424T151425
CREATED:20150929T104149Z
LAST-MODIFIED:20150929T104149Z
UID:3777-1477987200-1478106000@demo2.tokomoo.com
SUMMARY:WordCamp Los Angeles 2016
DESCRIPTION:WordCamp LAX is almost upon us\, and with it comes one of the best things about WordCamps … the Saturday night after party! \nThe after party is a great place to kickback while processing your day and connecting with your fellow attendees and speakers. Plus it’s fun and there is free food. So\, really\, what’s not to love? This year\, we’re heading to one of Downtown LA’s coolest co-working spots\, Opodz! \nHere are the details you need to come party with us!
URL:https://demo2.tokomoo.com/festiven/event/wordcamp-los-angeles-2016-2/
LOCATION:Cal State University Los Angeles Golden Eagle Ballroom\, 5151 State University Dr\, Los Angeles\, CA\, 90012\, United States
CATEGORIES:Education,Wordcamp
ATTACH;FMTTYPE=image/jpeg:https://demo2.tokomoo.com/festiven/wp-content/uploads/sites/6/2015/09/2014-09-life-of-pix-free-stock1-photos-New-York-light-Festive-banner-dirty.jpg
ORGANIZER;CN="Adam Silver":MAILTO:support@tokomoo.com
END:VEVENT
BEGIN:VEVENT
DTSTART;TZID=UTC:20161011T080000
DTEND;TZID=UTC:20161011T170000
DTSTAMP:20260424T151425
CREATED:20150929T093701Z
LAST-MODIFIED:20150929T093701Z
UID:3772-1476172800-1476205200@demo2.tokomoo.com
SUMMARY:WordCamp Manchester 2016
DESCRIPTION:We’re happy to announce that WordCamp Manchester is officially on the calendar. This years event is being hosted by Journalism\, Information and Communications at Manchester Metropolitan University. \nWordCamp Manchester conference day will be on Saturday 10th October 2015 at Manchester Metropolitan University Business School. We will also be running a contributor day on Sunday 11th October atMadlab. \nSubscribe using the form on the site and follow us on Twitter @wcmcr to stay up to date on the most recent news. We’ll keep you posted on all the details. \nThanks!
URL:https://demo2.tokomoo.com/festiven/event/wordcamp-manchester-2016-2/
LOCATION:Manchester Metropolitan University’s New Business School Building\, MMU New Business School\, All Saints Campus\, Oxford Road\, Manchester\, United States
CATEGORIES:Music,Wordcamp
ATTACH;FMTTYPE=image/jpeg:https://demo2.tokomoo.com/festiven/wp-content/uploads/sites/6/2015/09/The-girl-at-the-festival.jpg
ORGANIZER;CN="Simon Carter":MAILTO:support@tokomoo.com
END:VEVENT
BEGIN:VEVENT
DTSTART;TZID=UTC:20161004T080000
DTEND;TZID=UTC:20161005T170000
DTSTAMP:20260424T151426
CREATED:20150929T062608Z
LAST-MODIFIED:20150929T062608Z
UID:3760-1475568000-1475686800@demo2.tokomoo.com
SUMMARY:WordCamp Sofia 2016
DESCRIPTION:After hosting WordCamp Europe in 2014\,\nSofia welcomes you all for another magnificent\nWordCamp – WordCamp Sofia will happen on October 24\, 2015 at Arena Mladost Movie Theatre!\nknow\, learn the steps – the first step that must\nbe taken in studying wordpress\,\nmake sure to not make mistakes – mistakes early users. \nmade a good website and functioning optimally with guaranteed security.\nplease come and attend this event
URL:https://demo2.tokomoo.com/festiven/event/wordcamp-sofia-2016-2/
LOCATION:Unnamed Venue\, Business Park 3 str\, Mlados\, Mladoa\, Sofia\, 98002\, Bulgaria
CATEGORIES:Music,Wordcamp
ATTACH;FMTTYPE=image/jpeg:https://demo2.tokomoo.com/festiven/wp-content/uploads/sites/6/2015/09/tumblr_niklrkRX5L1tkairwo1_1280.jpg
ORGANIZER;CN="Shanta R. Nathwani%2C B.Com.%2C MCP":MAILTO:support@tokomoo.com
END:VEVENT
BEGIN:VEVENT
DTSTART;TZID=UTC:20161004T080000
DTEND;TZID=UTC:20161004T170000
DTSTAMP:20260424T151426
CREATED:20150929T100802Z
LAST-MODIFIED:20150929T100802Z
UID:3774-1475568000-1475600400@demo2.tokomoo.com
SUMMARY:WordCamp 2016: Hampton Roads
DESCRIPTION:know and learn things – things that needed to use wordpress\,\nsteps – steps should be taken\,\npast mistakes – mistakes are usually done by early users. \ncreate custom function effectively and in accordance\nwith the standard wordpress\,\nstudied the security of the website.\nso as to create webiste liking with the security that can count on. \nplease come and join us
URL:https://demo2.tokomoo.com/festiven/event/wordcamp-2016-hampton-roads-2/
LOCATION:Tidewater Community College’s Advanced Technology Center\, 1800 College Crescent\, Virginia Beach\, VA\, 23453\, United States
CATEGORIES:Food and Drink,Wordcamp
ATTACH;FMTTYPE=image/jpeg:https://demo2.tokomoo.com/festiven/wp-content/uploads/sites/6/2015/09/256176190a116b5261b56ade52bee962.jpg
ORGANIZER;CN="TIM SISSON":MAILTO:support@tokomoo.com
END:VEVENT
BEGIN:VEVENT
DTSTART;TZID=UTC:20161001T080000
DTEND;TZID=UTC:20161003T170000
DTSTAMP:20260424T151426
CREATED:20150929T063808Z
LAST-MODIFIED:20150929T063808Z
UID:3761-1475308800-1475514000@demo2.tokomoo.com
SUMMARY:Wordcamp NYC 2016
DESCRIPTION:WordCamp NYC is getting closer\,\nand we’re working our way through all of the fantastic speaker proposals. \nWhile the selection process is still active\, we’re excited to have confirmed our first group of speakers. \nYou may recognize some of the names from around the WordPress community\,\nothers will be new to you. we will give you a way to learn\nand use wordpress as a whole\,\npart of the function – the main function\, and changes as desired.
URL:https://demo2.tokomoo.com/festiven/event/wordcamp-nyc-2016-2/
LOCATION:Marriot\, Brooklyn Bridge\, Manhattan\, MA\, 98007\, United States
CATEGORIES:Art,Wordcamp
ATTACH;FMTTYPE=image/jpeg:https://demo2.tokomoo.com/festiven/wp-content/uploads/sites/6/2015/09/Brutal-Assault-Festival.jpg
ORGANIZER;CN="Shanta R. Nathwani%2C B.Com.%2C MCP":MAILTO:support@tokomoo.com
END:VEVENT
BEGIN:VEVENT
DTSTART;TZID=UTC:20160927T080000
DTEND;TZID=UTC:20160928T170000
DTSTAMP:20260424T151426
CREATED:20150929T060941Z
LAST-MODIFIED:20150929T060941Z
UID:3759-1474963200-1475082000@demo2.tokomoo.com
SUMMARY:WORDCAMP SEATTLE: BEGINNER EDITION
DESCRIPTION:We’re happy to announce that WordCamp Seattle: Beginner is officially on the calendar! The Seattle Organizer Community has decided to put on two smaller WordCamps this year. After a successful Experienced Edition in March\, WordCamp Seattle: Beginner is for users who are new to WordPress. \nWordCamp Seattle: Beginner will be October 24th-25th at McCaw Hall at the Seattle Center. \nSubscribe using the form in the sidebar to stay up to date on the most recent news. We’ll be keeping you posted on all the details over the coming months\, including speaker submissions\, ticket sales and more!
URL:https://demo2.tokomoo.com/festiven/event/wordcamp-seattle-beginner-edition-2/
LOCATION:McCaw Hall\, 321 Mercer Street\, Seattle\, WA\, 98101\, United States
CATEGORIES:Music,Wordcamp
ATTACH;FMTTYPE=image/jpeg:https://demo2.tokomoo.com/festiven/wp-content/uploads/sites/6/2015/09/FireShot-Screen-Capture-195-The-90s-Festival-I-BIG-REUNION-the90sfestival_com.jpg
ORGANIZER;CN="Adam Silver":MAILTO:support@tokomoo.com
END:VEVENT
BEGIN:VEVENT
DTSTART;TZID=UTC:20160920T080000
DTEND;TZID=UTC:20160922T180000
DTSTAMP:20260424T151426
CREATED:20150929T065013Z
LAST-MODIFIED:20150929T065013Z
UID:3762-1474358400-1474567200@demo2.tokomoo.com
SUMMARY:WordCamp Porto Alegre 2016
DESCRIPTION:O evento será realizado no dia 31 de Outubro (Sábado)\,\ndas 08h às 18h no Nós Coworking\,\nali no Shopping Total. \nCom uma programação mais focado no mercado local do\nque a edição de 2013 do WordCamp Porto Alegre em 2015\ncontinua em sua missão de promover o WordPress pessoas -muitas\,\na todas as pessoas\, a todos se conhecer e entender\nmais sobre o wordpress.\ncompreender todas as funções – ou a aparência ou o código de função atrás
URL:https://demo2.tokomoo.com/festiven/event/wordcamp-porto-alegre-2016-2/
LOCATION:Cal State University Los Angeles Golden Eagle Ballroom\, 5151 State University Dr\, Los Angeles\, CA\, 90012\, United States
CATEGORIES:Music,Wordcamp
ATTACH;FMTTYPE=image/jpeg:https://demo2.tokomoo.com/festiven/wp-content/uploads/sites/6/2015/09/9067c09cc8ffd8e6c11915f1a2f7f25f.jpg
ORGANIZER;CN="Shanta R. Nathwani%2C B.Com.%2C MCP":MAILTO:support@tokomoo.com
END:VEVENT
BEGIN:VEVENT
DTSTART;TZID=UTC:20160920T080000
DTEND;TZID=UTC:20160921T170000
DTSTAMP:20260424T151426
CREATED:20150929T094525Z
LAST-MODIFIED:20150929T094525Z
UID:3773-1474358400-1474477200@demo2.tokomoo.com
SUMMARY:WordCamp Raleigh 2016
DESCRIPTION:If you are just getting into the WordPress game\, you might not know this: every theme is not created equal. \nI’m not trying to scare you\, but let me propose a hypothetical situation (which I guarantee will sound familiar to our power users and developers): \n\nFind a theme that looks great.\nInstall (or worse\, purchase) and activate the new theme.\nSpend days or weeks tweaking the settings\, learning the theme\, and getting things situated in a way that looks (sorta) like the demo you were initially attracted to.\nImmediately find a theme you like slightly better which promises to be “easy to set up\,” and start again at step 2.\n\nWhat if you had someone to walk you through how to pick the right theme the first time around\, and could steer you around pitfalls common to popular themes.\nGrab your ticket today!
URL:https://demo2.tokomoo.com/festiven/event/wordcamp-raleigh-2016-2/
LOCATION:College of Engineering\, North Carolina State University 890 Oval Dr\, Raleigh\, NC\, 27606\, United States
CATEGORIES:Food and Drink,Wordcamp
ATTACH;FMTTYPE=image/jpeg:https://demo2.tokomoo.com/festiven/wp-content/uploads/sites/6/2015/09/Man-With-Hat.jpg
ORGANIZER;CN="Adam Silver":MAILTO:support@tokomoo.com
END:VEVENT
BEGIN:VEVENT
DTSTART;TZID=UTC:20160913T080000
DTEND;TZID=UTC:20160913T170000
DTSTAMP:20260424T151426
CREATED:20150929T103059Z
LAST-MODIFIED:20150929T103059Z
UID:3776-1473753600-1473786000@demo2.tokomoo.com
SUMMARY:WORDCAMP PORTLAND 2016
DESCRIPTION:We are pleased to announce the availability of WordCamp Portland 2015 Tickets are now available. There is also now a menu choice\, above in the Header of this Web Page\, for “Tickets.” \nGeneral Admission — Tickets are $20 and payable through PayPal. Tickets include admission and access to all sessions\, all day at WordCamp Portland 2015 on October 24th\, 2015 at the Eliot Center\, lunch\, snacks\, and WordCamp Portland Schwag™ like a WordCamp t-shirt. You may fill in any food preferences you may have and what size t-shirt you would like during the ticketing process.\n\nStudent Discount — There is a half-priced discount available for Students with a valid Student I.D. You must present this Student I.D. at Check-in at the Eliot Center venue on the day of the event. Please contact us for the Student Discount code. \nWe look forward to seeing all of you at this year’s WordCamp Portland!
URL:https://demo2.tokomoo.com/festiven/event/wordcamp-portland-2016-2/
LOCATION:the Eliot Center\, 1034 SW 13th Ave\, Portland\, OR\, 97205\, United States
CATEGORIES:Food and Drink,Wordcamp
ATTACH;FMTTYPE=image/jpeg:https://demo2.tokomoo.com/festiven/wp-content/uploads/sites/6/2015/09/f9d9143b3a465f3ad7981eca00d457e4.jpg
ORGANIZER;CN="JUSTIN SAINTON":MAILTO:support@tokomoo.com
END:VEVENT
BEGIN:VEVENT
DTSTART;TZID=UTC:20160913T080000
DTEND;TZID=UTC:20160913T170000
DTSTAMP:20260424T151426
CREATED:20150929T101555Z
LAST-MODIFIED:20150929T101555Z
UID:3775-1473753600-1473786000@demo2.tokomoo.com
SUMMARY:WordCamp Ann Arbor 2015
DESCRIPTION:WordCamps are casual conferences that are local in nature. Topics cover everything related to WordPress and include things such as blogging\, coding\, branding\, and security. \nWordCamps are attended by people ranging from blogging newbies to professional WordPress developers and consultants. They are an opportunity to connect with other WordPress users\, developers\, and business owners. \nBest of all – WordCamps are fun! \nThey offer a perfect time to jump in\, participate\, and get to know other WordPress enthusiasts.\nWordCamp Ann Arbor is Coming \nWe’ll be updating this website more and more in the coming weeks\, so please check back for more updates.
URL:https://demo2.tokomoo.com/festiven/event/wordcamp-ann-arbor-2015-2/
LOCATION:Michigan Union\, 530 S State St\, Ann Arbor\, MI\, 48109\, United States
CATEGORIES:Food and Drink,Wordcamp
ATTACH;FMTTYPE=image/jpeg:https://demo2.tokomoo.com/festiven/wp-content/uploads/sites/6/2015/09/The-girl-at-the-festival.jpg
ORGANIZER;CN="David Laietta":MAILTO:support@tokomoo.com
END:VEVENT
END:VCALENDAR