BEGIN:VCALENDAR
VERSION:2.0
PRODID:-//Festiven - ECPv6.2.4//NONSGML v1.0//EN
CALSCALE:GREGORIAN
METHOD:PUBLISH
X-WR-CALNAME:Festiven
X-ORIGINAL-URL:https://demo2.tokomoo.com/festiven
X-WR-CALDESC:Events for Festiven
REFRESH-INTERVAL;VALUE=DURATION:PT1H
X-Robots-Tag:noindex
X-PUBLISHED-TTL:PT1H
BEGIN:VTIMEZONE
TZID:UTC
BEGIN:STANDARD
TZOFFSETFROM:+0000
TZOFFSETTO:+0000
TZNAME:UTC
DTSTART:20160101T000000
END:STANDARD
END:VTIMEZONE
BEGIN:VEVENT
DTSTART;TZID=UTC:20161004T080000
DTEND;TZID=UTC:20161004T170000
DTSTAMP:20260420T201218
CREATED:20150929T100802Z
LAST-MODIFIED:20150929T100802Z
UID:3774-1475568000-1475600400@demo2.tokomoo.com
SUMMARY:WordCamp 2016: Hampton Roads
DESCRIPTION:know and learn things – things that needed to use wordpress\,\nsteps – steps should be taken\,\npast mistakes – mistakes are usually done by early users. \ncreate custom function effectively and in accordance\nwith the standard wordpress\,\nstudied the security of the website.\nso as to create webiste liking with the security that can count on. \nplease come and join us
URL:https://demo2.tokomoo.com/festiven/event/wordcamp-2016-hampton-roads-2/
LOCATION:Tidewater Community College’s Advanced Technology Center\, 1800 College Crescent\, Virginia Beach\, VA\, 23453\, United States
CATEGORIES:Food and Drink,Wordcamp
ATTACH;FMTTYPE=image/jpeg:https://demo2.tokomoo.com/festiven/wp-content/uploads/sites/6/2015/09/256176190a116b5261b56ade52bee962.jpg
ORGANIZER;CN="TIM SISSON":MAILTO:support@tokomoo.com
END:VEVENT
END:VCALENDAR